BEGIN:VCALENDAR
VERSION:2.0
PRODID:-//www.ketchikanarts.org//NONSGML kigkonsult.se iCalcreator 2.30.10/
 /
CALSCALE:GREGORIAN
METHOD:PUBLISH
UID:5eff326e-7978-493a-88e1-1da56213cf83
X-WR-CALDESC:An exhibit of 15 New Bird Portraits\n\nNormal Operating Hours
X-WR-RELCALID:ca15f5d72722e5f837f06d899e78c328
X-WR-TIMEZONE:America/Anchorage
BEGIN:VTIMEZONE
TZID:America/Anchorage
BEGIN:STANDARD
TZNAME:AKST
DTSTART:20211107T020000
TZOFFSETFROM:-0800
TZOFFSETTO:-0900
RDATE:20221106T020000
RDATE:20231105T020000
END:STANDARD
BEGIN:DAYLIGHT
TZNAME:AKDT
DTSTART:20220313T020000
TZOFFSETFROM:-0900
TZOFFSETTO:-0800
RDATE:20230312T020000
END:DAYLIGHT
END:VTIMEZONE
BEGIN:VEVENT
UID:9c618e61-81d0-4813-9e90-366507ae1245
DTSTAMP:20260420T092623Z
DESCRIPTION:An exhibit of 15 New Bird Portraits\n\nNormal Operating Hours
DTSTART;TZID=America/Anchorage:20220520T170000
DTEND;TZID=America/Anchorage:20220620T170000
LOCATION:SOHO COHO ART GALLERY
SUMMARY:To Know Birds is to Love Birds
END:VEVENT
END:VCALENDAR
