BEGIN:VCALENDAR
VERSION:2.0
PRODID:-//www.ketchikanarts.org//NONSGML kigkonsult.se iCalcreator 2.30.10/
 /
CALSCALE:GREGORIAN
METHOD:PUBLISH
UID:06bc556f-a99a-47d4-acff-5dfc68928b13
X-WR-CALDESC:A Fun youth production put on by the Kayhi Drama Kings.\nKayhi
  Auditorium\nTickets are $15 each or  Family of 4 for $50
X-WR-RELCALID:4f1f260b739f8ff0349e8f4a9a2dabe4
X-WR-TIMEZONE:America/Anchorage
BEGIN:VTIMEZONE
TZID:America/Anchorage
BEGIN:STANDARD
TZNAME:AKST
DTSTART:20211107T020000
TZOFFSETFROM:-0800
TZOFFSETTO:-0900
RDATE:20221106T020000
RDATE:20231105T020000
END:STANDARD
BEGIN:DAYLIGHT
TZNAME:AKDT
DTSTART:20220313T020000
TZOFFSETFROM:-0900
TZOFFSETTO:-0800
RDATE:20230312T020000
END:DAYLIGHT
END:VTIMEZONE
BEGIN:VEVENT
UID:a7e600a0-e01b-449f-b2df-e1fd736cb960
DTSTAMP:20260420T105122Z
DESCRIPTION:A Fun youth production put on by the Kayhi Drama Kings.\nKayhi 
 Auditorium\nTickets are $15 each or  Family of 4 for $50
DTSTART;TZID=America/Anchorage:20220520T193000
DTEND;TZID=America/Anchorage:20220520T223000
LOCATION:KayHi Auditorium
SUMMARY:SpongeBob Square Pants
END:VEVENT
END:VCALENDAR
