BEGIN:VCALENDAR
VERSION:2.0
PRODID:-//www.ketchikanarts.org//NONSGML kigkonsult.se iCalcreator 2.30.10/
 /
CALSCALE:GREGORIAN
METHOD:PUBLISH
UID:7cca4464-2724-4564-a14a-9af01aa26bed
X-WR-CALDESC:Sultry sounds of Joe Williams IV and Austin Hays\nLive music a
 t Cape Fox every other Thursday through the end of May \nFree to restauran
 t patrons
X-WR-RELCALID:f5b1f984b20cd586ea72d5118f95b230
X-WR-TIMEZONE:America/Anchorage
BEGIN:VTIMEZONE
TZID:America/Anchorage
BEGIN:STANDARD
TZNAME:AKST
DTSTART:20211107T020000
TZOFFSETFROM:-0800
TZOFFSETTO:-0900
RDATE:20221106T020000
RDATE:20231105T020000
END:STANDARD
BEGIN:DAYLIGHT
TZNAME:AKDT
DTSTART:20220313T020000
TZOFFSETFROM:-0900
TZOFFSETTO:-0800
RDATE:20230312T020000
END:DAYLIGHT
END:VTIMEZONE
BEGIN:VEVENT
UID:6aa4791d-9f23-40c0-9a8e-41ca105f303b
DTSTAMP:20260420T105639Z
DESCRIPTION:Sultry sounds of Joe Williams IV and Austin Hays\nLive music at
  Cape Fox every other Thursday through the end of May \nFree to restaurant
  patrons
DTSTART;TZID=America/Anchorage:20220519T170000
DTEND;TZID=America/Anchorage:20220519T203000
LOCATION:
SUMMARY:Joe Williams IV and Austin Hays
END:VEVENT
END:VCALENDAR
