BEGIN:VCALENDAR
VERSION:2.0
PRODID:-//www.ketchikanarts.org//NONSGML kigkonsult.se iCalcreator 2.30.10/
 /
CALSCALE:GREGORIAN
METHOD:PUBLISH
UID:6434fba9-cf5d-45a7-bca6-f53d9e5b56d0
X-WR-CALDESC:Calling all talent!!!!  It’s KRBD’s 46th Birthday\, and They a
 re celebrating with an afternoon of live performances!\nSaturday\, May 21s
 t\, live at the station\, starting at noon.\n\nCall 907-225-9655 or email 
 stuart@krbd.org by May 18th to sign up to perform or sponsor the show.
X-WR-RELCALID:3dba0ab2f4558c8d61416eca2eac1428
X-WR-TIMEZONE:America/Anchorage
BEGIN:VTIMEZONE
TZID:America/Anchorage
BEGIN:STANDARD
TZNAME:AKST
DTSTART:20211107T020000
TZOFFSETFROM:-0800
TZOFFSETTO:-0900
RDATE:20221106T020000
RDATE:20231105T020000
END:STANDARD
BEGIN:DAYLIGHT
TZNAME:AKDT
DTSTART:20220313T020000
TZOFFSETFROM:-0900
TZOFFSETTO:-0800
RDATE:20230312T020000
END:DAYLIGHT
END:VTIMEZONE
BEGIN:VEVENT
UID:cd2b36f0-5f5d-44c9-8000-f9e60061ad87
DTSTAMP:20260420T105342Z
DESCRIPTION:Calling all talent!!!!  It’s KRBD’s 46th Birthday\, and They ar
 e celebrating with an afternoon of live performances!\nSaturday\, May 21st
 \, live at the station\, starting at noon.\n\nCall 907-225-9655 or email s
 tuart@krbd.org by May 18th to sign up to perform or sponsor the show.
DTSTART;TZID=America/Anchorage:20220518T000000
DTEND;TZID=America/Anchorage:20220518T235900
LOCATION:
SUMMARY:KRBD LIVE DAY Submission Deadline.
END:VEVENT
END:VCALENDAR
