BEGIN:VCALENDAR
VERSION:2.0
PRODID:-//www.ketchikanarts.org//NONSGML kigkonsult.se iCalcreator 2.30.10/
 /
CALSCALE:GREGORIAN
METHOD:PUBLISH
UID:b5a6dd7e-383c-4810-9530-4102a52b91fa
X-WR-CALDESC:Book signing with author and researcher Dr. Matthew A. Johnson
X-WR-RELCALID:c860512d67202a5ee90db8b2216244b7
X-WR-TIMEZONE:America/Anchorage
BEGIN:VTIMEZONE
TZID:America/Anchorage
BEGIN:STANDARD
TZNAME:AKST
DTSTART:20211107T020000
TZOFFSETFROM:-0800
TZOFFSETTO:-0900
RDATE:20221106T020000
RDATE:20231105T020000
END:STANDARD
BEGIN:DAYLIGHT
TZNAME:AKDT
DTSTART:20220313T020000
TZOFFSETFROM:-0900
TZOFFSETTO:-0800
RDATE:20230312T020000
END:DAYLIGHT
END:VTIMEZONE
BEGIN:VEVENT
UID:daa89a73-6010-4b9e-bff7-89c9928f92cc
DTSTAMP:20260420T105234Z
DESCRIPTION:Book signing with author and researcher Dr. Matthew A. Johnson
DTSTART;TZID=America/Anchorage:20220514T140000
DTEND;TZID=America/Anchorage:20220514T150000
LOCATION:Green Bean Coffee Company
SUMMARY:Book Signing
END:VEVENT
END:VCALENDAR
