BEGIN:VCALENDAR
VERSION:2.0
PRODID:-//www.ketchikanarts.org//NONSGML kigkonsult.se iCalcreator 2.30.10/
 /
CALSCALE:GREGORIAN
METHOD:PUBLISH
UID:e468aed4-6f7f-45cc-9d41-0e7ffcbb4af9
X-WR-CALDESC:Fridays at the New York Cafe\nLocal live music free to restaur
 ant and bar patrons
X-WR-RELCALID:b4d331e0f9c12e86c15ec7c4e4fb110e
X-WR-TIMEZONE:America/Anchorage
BEGIN:VTIMEZONE
TZID:America/Anchorage
BEGIN:STANDARD
TZNAME:AKST
DTSTART:20211107T020000
TZOFFSETFROM:-0800
TZOFFSETTO:-0900
RDATE:20221106T020000
RDATE:20231105T020000
END:STANDARD
BEGIN:DAYLIGHT
TZNAME:AKDT
DTSTART:20220313T020000
TZOFFSETFROM:-0900
TZOFFSETTO:-0800
RDATE:20230312T020000
END:DAYLIGHT
END:VTIMEZONE
BEGIN:VEVENT
UID:bcd83eeb-e5d4-4578-bb1c-a12422b8d993
DTSTAMP:20260420T105358Z
DESCRIPTION:Fridays at the New York Cafe\nLocal live music free to restaura
 nt and bar patrons
DTSTART;TZID=America/Anchorage:20220513T190000
DTEND;TZID=America/Anchorage:20220513T210000
LOCATION:New York Cafe
SUMMARY:Dave Hannah and Chazz
END:VEVENT
END:VCALENDAR
