BEGIN:VCALENDAR
VERSION:2.0
PRODID:-//www.ketchikanarts.org//NONSGML kigkonsult.se iCalcreator 2.30.10/
 /
CALSCALE:GREGORIAN
METHOD:PUBLISH
UID:deb3ad67-378d-4c15-b835-d7f8fb37ba18
X-WR-CALDESC:Book signing with author and researcher Dr. Matthew A. Johnson
X-WR-RELCALID:b5e25355972e6725063bb457bd13b6a3
X-WR-TIMEZONE:America/Anchorage
BEGIN:VTIMEZONE
TZID:America/Anchorage
BEGIN:STANDARD
TZNAME:AKST
DTSTART:20211107T020000
TZOFFSETFROM:-0800
TZOFFSETTO:-0900
RDATE:20221106T020000
RDATE:20231105T020000
END:STANDARD
BEGIN:DAYLIGHT
TZNAME:AKDT
DTSTART:20220313T020000
TZOFFSETFROM:-0900
TZOFFSETTO:-0800
RDATE:20230312T020000
END:DAYLIGHT
END:VTIMEZONE
BEGIN:VEVENT
UID:4f470278-a876-4066-947f-bd4978a28ce5
DTSTAMP:20260420T105203Z
DESCRIPTION:Book signing with author and researcher Dr. Matthew A. Johnson
DTSTART;TZID=America/Anchorage:20220512T140000
DTEND;TZID=America/Anchorage:20220512T150000
LOCATION:Green Bean Coffee Company
SUMMARY:Book Signing
END:VEVENT
END:VCALENDAR
