BEGIN:VCALENDAR
VERSION:2.0
PRODID:-//www.ketchikanarts.org//NONSGML kigkonsult.se iCalcreator 2.30.10/
 /
CALSCALE:GREGORIAN
METHOD:PUBLISH
UID:21ca296e-219b-4037-8689-68adf89cd046
X-WR-CALDESC:The 23rd Annual Celebration of the Sea Art Walk is Friday\, Ma
 y 6\, from 5:00 - 8:00pm. Twenty art businesses and galleries are particip
 ating to kick off the summer season! Find unique art by local artists\, ex
 perience great food and music\, and enjoy the evening with family and frie
 nds!\nStart at the Main Street Gallery with Carmel Anderson's exhibition\,
  'Foster Love/Foster Care'\, as she collaborates with the Ketchikan Indian
  Community to use the power of art to explore the challenges and triumphs 
 of foster care. Don't miss the Blessing of the Fleet at 5:15pm at Berth 2/
 Ryas Float to honor those lost at sea. Pastor Keith Anderson will officiat
 e. it will also be broadcast on VHF channel 68.
X-WR-RELCALID:8299b04f83e990989f1d373c40d89e6b
X-WR-TIMEZONE:America/Anchorage
BEGIN:VTIMEZONE
TZID:America/Anchorage
BEGIN:STANDARD
TZNAME:AKST
DTSTART:20211107T020000
TZOFFSETFROM:-0800
TZOFFSETTO:-0900
RDATE:20221106T020000
RDATE:20231105T020000
END:STANDARD
BEGIN:DAYLIGHT
TZNAME:AKDT
DTSTART:20220313T020000
TZOFFSETFROM:-0900
TZOFFSETTO:-0800
RDATE:20230312T020000
END:DAYLIGHT
END:VTIMEZONE
BEGIN:VEVENT
UID:94d39e27-895a-4931-8782-f14e6bb6a7f9
DTSTAMP:20260420T105833Z
DESCRIPTION:The 23rd Annual Celebration of the Sea Art Walk is Friday\, May
  6\, from 5:00 - 8:00pm. Twenty art businesses and galleries are participa
 ting to kick off the summer season! Find unique art by local artists\, exp
 erience great food and music\, and enjoy the evening with family and frien
 ds!\nStart at the Main Street Gallery with Carmel Anderson's exhibition\, 
 'Foster Love/Foster Care'\, as she collaborates with the Ketchikan Indian 
 Community to use the power of art to explore the challenges and triumphs o
 f foster care. Don't miss the Blessing of the Fleet at 5:15pm at Berth 2/R
 yas Float to honor those lost at sea. Pastor Keith Anderson will officiate
 . it will also be broadcast on VHF channel 68.
DTSTART;TZID=America/Anchorage:20220506T170000
DTEND;TZID=America/Anchorage:20220506T200000
LOCATION:
SUMMARY:Celebration of the Sea Art Walk
END:VEVENT
END:VCALENDAR
