BEGIN:VCALENDAR
VERSION:2.0
PRODID:-//www.ketchikanarts.org//NONSGML kigkonsult.se iCalcreator 2.30.10/
 /
CALSCALE:GREGORIAN
METHOD:PUBLISH
UID:2a530a2a-4249-4f26-9d29-0f042c9347d2
X-WR-CALDESC:Fridays at the New York Cafe\nLocal live music free to restaur
 ant and bar patrons
X-WR-RELCALID:cbde27417b2c661af31e97e0abb0cd5b
X-WR-TIMEZONE:America/Anchorage
BEGIN:VTIMEZONE
TZID:America/Anchorage
BEGIN:STANDARD
TZNAME:AKST
DTSTART:20211107T020000
TZOFFSETFROM:-0800
TZOFFSETTO:-0900
RDATE:20221106T020000
RDATE:20231105T020000
END:STANDARD
BEGIN:DAYLIGHT
TZNAME:AKDT
DTSTART:20220313T020000
TZOFFSETFROM:-0900
TZOFFSETTO:-0800
RDATE:20230312T020000
END:DAYLIGHT
END:VTIMEZONE
BEGIN:VEVENT
UID:f6ebf954-4aa5-4d87-962b-556b3f41baca
DTSTAMP:20260420T105516Z
DESCRIPTION:Fridays at the New York Cafe\nLocal live music free to restaura
 nt and bar patrons
DTSTART;TZID=America/Anchorage:20220506T190000
DTEND;TZID=America/Anchorage:20220506T210000
LOCATION:New York Cafe
SUMMARY:Dave Hannah and Chazz
END:VEVENT
END:VCALENDAR
