BEGIN:VCALENDAR
VERSION:2.0
PRODID:-//www.ketchikanarts.org//NONSGML kigkonsult.se iCalcreator 2.30.10/
 /
CALSCALE:GREGORIAN
METHOD:PUBLISH
UID:91bb2ac5-eecc-402b-b2ca-6d74fc917201
X-WR-CALDESC:Free at Totem Bight Stae Park\n8:00 am Bird Walk\n8:30 AM KIds
  program\nBreakfast
X-WR-RELCALID:a530e6d74705752262c0bdcdac88a705
X-WR-TIMEZONE:America/Anchorage
BEGIN:VTIMEZONE
TZID:America/Anchorage
BEGIN:STANDARD
TZNAME:AKST
DTSTART:20211107T020000
TZOFFSETFROM:-0800
TZOFFSETTO:-0900
RDATE:20221106T020000
END:STANDARD
BEGIN:DAYLIGHT
TZNAME:AKDT
DTSTART:20220313T020000
TZOFFSETFROM:-0900
TZOFFSETTO:-0800
RDATE:20230312T020000
END:DAYLIGHT
END:VTIMEZONE
BEGIN:VEVENT
UID:0af76a00-bf2b-442e-9329-96498131fbdf
DTSTAMP:20260420T121703Z
DESCRIPTION:Free at Totem Bight Stae Park\n8:00 am Bird Walk\n8:30 AM KIds 
 program\nBreakfast
DTSTART;TZID=America/Anchorage:20220430T080000
DTEND;TZID=America/Anchorage:20220430T100000
LOCATION:Totem Bight State Park
SUMMARY:Breakfast with the Birds
END:VEVENT
END:VCALENDAR
