BEGIN:VCALENDAR
VERSION:2.0
PRODID:-//www.ketchikanarts.org//NONSGML kigkonsult.se iCalcreator 2.30.10/
 /
CALSCALE:GREGORIAN
METHOD:PUBLISH
UID:2f10380d-c303-450d-8a0b-0834c7f3abf6
X-WR-CALDESC:'Alaska Divers: Cold Hands\, Warm Hearts\,' a free public lect
 ure at the UAS Ketchikan Campus Library given by Dr. Charmaine Robinson. A
 ttend in person or view live on Facebook Live Thursday\, April 28\, at 6pm
X-WR-RELCALID:2b50c00cb8604244e55489bf2f28b2fc
X-WR-TIMEZONE:America/Anchorage
BEGIN:VTIMEZONE
TZID:America/Anchorage
BEGIN:STANDARD
TZNAME:AKST
DTSTART:20211107T020000
TZOFFSETFROM:-0800
TZOFFSETTO:-0900
RDATE:20221106T020000
END:STANDARD
BEGIN:DAYLIGHT
TZNAME:AKDT
DTSTART:20220313T020000
TZOFFSETFROM:-0900
TZOFFSETTO:-0800
RDATE:20230312T020000
END:DAYLIGHT
END:VTIMEZONE
BEGIN:VEVENT
UID:3697c853-74ab-4575-af01-89d5d07d954f
DTSTAMP:20260420T121717Z
DESCRIPTION:'Alaska Divers: Cold Hands\, Warm Hearts\,' a free public lectu
 re at the UAS Ketchikan Campus Library given by Dr. Charmaine Robinson. At
 tend in person or view live on Facebook Live Thursday\, April 28\, at 6pm
DTSTART;TZID=America/Anchorage:20220428T180000
DTEND;TZID=America/Anchorage:20220428T190000
LOCATION:Ketchikan Campus Library Facebok Page
SUMMARY:Ask UAS - Alaskan Scuba Divers
END:VEVENT
END:VCALENDAR
