BEGIN:VCALENDAR
VERSION:2.0
PRODID:-//www.ketchikanarts.org//NONSGML kigkonsult.se iCalcreator 2.30.10/
 /
CALSCALE:GREGORIAN
METHOD:PUBLISH
UID:7ae116d6-4fd8-4335-b7ca-4f0d230b2445
X-WR-CALDESC:Interested in Preserving Ketchikan’s Historic Resources?\n \nT
 rue North Sustainable Development Solutions\, LLC\, and the Ketchikan Hist
 oric Commission are beginning the development of a historic preservation p
 lan and invite you to share your thoughts!\n \nKetchikan is rich with hist
 ory and culture and has the highest density of historic and cultural resou
 rces per capita in Alaska. Ketchikan was designated nationally as a Preser
 ve America community in 2007 for its dedication to preserving its history\
 , elegant architecture\, and deeply rooted and vibrant cultures. With over
  400 resources on the Alaska Heritage Resources Survey database\, Ketchika
 n boasts 13 properties on the National Register of Historic Places\, of wh
 ich three are historic districts - the Downtown Ketchikan Historic Distric
 t\, Steadman-Thomas Historic District\, and the world-famous Creek Street 
 Historic District. In addition\, there are 23 resources determined eligibl
 e that are just waiting for inclusion in the National Register of Historic
  Places.\n \nIf you have an interest in preserving the community’s histori
 c and cultural resources\, we really hope to see you at our first virtual 
 meeting on April 25 at 6:00 pm. And\, if you have information or tradition
 al knowledge you think could help the City of Ketchikan as it develops its
  historic preservation plan\, well\, we would love to see you there too.\n
 \nRegister for the Zoom meeting at: https://bit.ly/KetchikanHistoricPreser
 vationOutreachMeeting\n \nVisit the Ketchikan Museums’ website at Ketchika
 nMuseums.org and the Tongass Historical Museum Facebook page for registrat
 ion and updates.  Call the Museum at 225-5600 with questions.\n  \n\n\n \n
 \n\n
X-WR-RELCALID:6698a54e70362b2809647b406b918d4e
X-WR-TIMEZONE:America/Anchorage
BEGIN:VTIMEZONE
TZID:America/Anchorage
BEGIN:STANDARD
TZNAME:AKST
DTSTART:20211107T020000
TZOFFSETFROM:-0800
TZOFFSETTO:-0900
RDATE:20221106T020000
END:STANDARD
BEGIN:DAYLIGHT
TZNAME:AKDT
DTSTART:20220313T020000
TZOFFSETFROM:-0900
TZOFFSETTO:-0800
RDATE:20230312T020000
END:DAYLIGHT
END:VTIMEZONE
BEGIN:VEVENT
UID:613ed839-7330-4b35-86d9-03bd88101e9b
DTSTAMP:20260420T122025Z
DESCRIPTION:Interested in Preserving Ketchikan’s Historic Resources?\n \nTr
 ue North Sustainable Development Solutions\, LLC\, and the Ketchikan Histo
 ric Commission are beginning the development of a historic preservation pl
 an and invite you to share your thoughts!\n \nKetchikan is rich with histo
 ry and culture and has the highest density of historic and cultural resour
 ces per capita in Alaska. Ketchikan was designated nationally as a Preserv
 e America community in 2007 for its dedication to preserving its history\,
  elegant architecture\, and deeply rooted and vibrant cultures. With over 
 400 resources on the Alaska Heritage Resources Survey database\, Ketchikan
  boasts 13 properties on the National Register of Historic Places\, of whi
 ch three are historic districts - the Downtown Ketchikan Historic District
 \, Steadman-Thomas Historic District\, and the world-famous Creek Street H
 istoric District. In addition\, there are 23 resources determined eligible
  that are just waiting for inclusion in the National Register of Historic 
 Places.\n \nIf you have an interest in preserving the community’s historic
  and cultural resources\, we really hope to see you at our first virtual m
 eeting on April 25 at 6:00 pm. And\, if you have information or traditiona
 l knowledge you think could help the City of Ketchikan as it develops its 
 historic preservation plan\, well\, we would love to see you there too.\n
 \nRegister for the Zoom meeting at: https://bit.ly/KetchikanHistoricPreser
 vationOutreachMeeting\n \nVisit the Ketchikan Museums’ website at Ketchika
 nMuseums.org and the Tongass Historical Museum Facebook page for registrat
 ion and updates.  Call the Museum at 225-5600 with questions.\n  \n\n\n \n
 \n\n
DTSTART;TZID=America/Anchorage:20220425T180000
DTEND;TZID=America/Anchorage:20220425T193000
LOCATION:ZOOM MEETING
SUMMARY:Ketchikan Historic Preservation Plan Meeting
END:VEVENT
END:VCALENDAR
