BEGIN:VCALENDAR
VERSION:2.0
PRODID:-//www.ketchikanarts.org//NONSGML kigkonsult.se iCalcreator 2.30.10/
 /
CALSCALE:GREGORIAN
METHOD:PUBLISH
UID:0d848b7b-4024-4729-b703-3fb3e38440ce
X-WR-CALDESC:The Ketchikan Area Arts and Humanities Council's Annual Meetin
 g location has been changed due to expected rain. The meeting will be held
  at the Main Street Gallery at 10am. \n\nMain Street Gallery\n330 Main Str
 eet
X-WR-RELCALID:f1f02a962969538e9817649c6ad693de
X-WR-TIMEZONE:America/Anchorage
BEGIN:VTIMEZONE
TZID:America/Anchorage
BEGIN:STANDARD
TZNAME:AKST
DTSTART:20211107T020000
TZOFFSETFROM:-0800
TZOFFSETTO:-0900
RDATE:20221106T020000
END:STANDARD
BEGIN:DAYLIGHT
TZNAME:AKDT
DTSTART:20220313T020000
TZOFFSETFROM:-0900
TZOFFSETTO:-0800
RDATE:20230312T020000
END:DAYLIGHT
END:VTIMEZONE
BEGIN:VEVENT
UID:4b9be1de-e087-470c-8936-61eebdc50ddf
DTSTAMP:20260420T121805Z
DESCRIPTION:The Ketchikan Area Arts and Humanities Council's Annual Meeting
  location has been changed due to expected rain. The meeting will be held 
 at the Main Street Gallery at 10am. \n\nMain Street Gallery\n330 Main Stre
 et
DTSTART;TZID=America/Anchorage:20220423T100000
DTEND;TZID=America/Anchorage:20220423T103000
LOCATION:330 Main Street\, Ketchikan\, AK 99901 US
SUMMARY:KAAHC Annual Meeting
END:VEVENT
END:VCALENDAR
