BEGIN:VCALENDAR
VERSION:2.0
PRODID:-//www.ketchikanarts.org//NONSGML kigkonsult.se iCalcreator 2.30.10/
 /
CALSCALE:GREGORIAN
METHOD:PUBLISH
UID:7e3a32cf-5465-4794-ae9c-ba8621fbde42
X-WR-CALDESC:Fridays at the New York Cafe\nLocal live music free to restaur
 ant and bar patrons
X-WR-RELCALID:d3f8206ca09cdeeee9a7f8b4988f0126
X-WR-TIMEZONE:America/Anchorage
BEGIN:VTIMEZONE
TZID:America/Anchorage
BEGIN:STANDARD
TZNAME:AKST
DTSTART:20211107T020000
TZOFFSETFROM:-0800
TZOFFSETTO:-0900
RDATE:20221106T020000
END:STANDARD
BEGIN:DAYLIGHT
TZNAME:AKDT
DTSTART:20220313T020000
TZOFFSETFROM:-0900
TZOFFSETTO:-0800
RDATE:20230312T020000
END:DAYLIGHT
END:VTIMEZONE
BEGIN:VEVENT
UID:4d6224ad-265b-42fc-b3f9-0c43d37e98ef
DTSTAMP:20260420T121556Z
DESCRIPTION:Fridays at the New York Cafe\nLocal live music free to restaura
 nt and bar patrons
DTSTART;TZID=America/Anchorage:20220422T190000
DTEND;TZID=America/Anchorage:20220422T210000
LOCATION:New York Cafe
SUMMARY:Live Music
END:VEVENT
END:VCALENDAR
