BEGIN:VCALENDAR
VERSION:2.0
PRODID:-//www.ketchikanarts.org//NONSGML kigkonsult.se iCalcreator 2.30.10/
 /
CALSCALE:GREGORIAN
METHOD:PUBLISH
UID:09b91be8-0e62-47a9-8b3c-f5fa741103d3
X-WR-CALDESC:A sustainable economic resource by the Southern Southeast Regi
 onal Aquaculture Association\, Inc
X-WR-RELCALID:ee8dc5e5b140cc2a79821be9e738f419
X-WR-TIMEZONE:America/Anchorage
BEGIN:VTIMEZONE
TZID:America/Anchorage
BEGIN:STANDARD
TZNAME:AKST
DTSTART:20211107T020000
TZOFFSETFROM:-0800
TZOFFSETTO:-0900
RDATE:20221106T020000
END:STANDARD
BEGIN:DAYLIGHT
TZNAME:AKDT
DTSTART:20220313T020000
TZOFFSETFROM:-0900
TZOFFSETTO:-0800
RDATE:20230312T020000
END:DAYLIGHT
END:VTIMEZONE
BEGIN:VEVENT
UID:b2a880bf-8ff6-4f4e-84bd-573f957c800c
DTSTAMP:20260420T121728Z
DESCRIPTION:A sustainable economic resource by the Southern Southeast Regio
 nal Aquaculture Association\, Inc
DTSTART;TZID=America/Anchorage:20220407T120000
DTEND;TZID=America/Anchorage:20220407T130000
LOCATION:Virtual Museum Midday
SUMMARY:Museum Midday - Deer Mountain Hatchery
END:VEVENT
END:VCALENDAR
