BEGIN:VCALENDAR
VERSION:2.0
PRODID:-//www.ketchikanarts.org//NONSGML kigkonsult.se iCalcreator 2.30.10/
 /
CALSCALE:GREGORIAN
METHOD:PUBLISH
UID:3a6c4f0f-4b9f-464e-a908-d3047b706e3e
X-WR-CALDESC:Join the US Forest Service and the Southeast Alaska Discovery 
 Center for the opening reception to the annual Hummingbird Festival Juried
  Art Show! Free and open to the public! \nVision: To educate and promote a
 wareness of the Spring Migratory Birds of Southeast Alaska through creativ
 e arts!
X-WR-RELCALID:ba04726c34de9a0839f3eb47fe0e4d4a
X-WR-TIMEZONE:America/Anchorage
BEGIN:VTIMEZONE
TZID:America/Anchorage
BEGIN:STANDARD
TZNAME:AKST
DTSTART:20211107T020000
TZOFFSETFROM:-0800
TZOFFSETTO:-0900
RDATE:20221106T020000
END:STANDARD
BEGIN:DAYLIGHT
TZNAME:AKDT
DTSTART:20220313T020000
TZOFFSETFROM:-0900
TZOFFSETTO:-0800
RDATE:20230312T020000
END:DAYLIGHT
END:VTIMEZONE
BEGIN:VEVENT
UID:229f2633-1c45-4609-8392-78a883e925ba
DTSTAMP:20260420T122702Z
DESCRIPTION:Join the US Forest Service and the Southeast Alaska Discovery C
 enter for the opening reception to the annual Hummingbird Festival Juried 
 Art Show! Free and open to the public! \nVision: To educate and promote aw
 areness of the Spring Migratory Birds of Southeast Alaska through creative
  arts!
DTSTART;TZID=America/Anchorage:20220401T170000
DTEND;TZID=America/Anchorage:20220401T190000
LOCATION:
SUMMARY:Alaska Hummingbird Festival - Opening Reception
END:VEVENT
END:VCALENDAR
