BEGIN:VCALENDAR
VERSION:2.0
PRODID:-//www.ketchikanarts.org//NONSGML kigkonsult.se iCalcreator 2.30.10/
 /
CALSCALE:GREGORIAN
METHOD:PUBLISH
UID:9d5ed99a-e288-4a22-aee4-044d8136e111
X-WR-CALDESC:Deadline to submit artwork for the 47th annual Blueberry Arts 
 festival  Logo design!!!\n\nThe Ketchikan Area Arts & Humanities Council i
 nvites you to submit up to 2 designs for the 2022 Festival logo. The logo 
 is featured on the Blueberry Arts Festival T-shirts and is a cherished mem
 ento from each year’s Festival.  Your artwork will be worn by hundreds of 
 Ketchikanites\, will travel the world with our summer visitors\, and be fe
 atured on all Festival publicity! New this year there are many ways to sub
 mit your artwork to the Arts Council.\n\n1. Mail\, or drop off original ar
 twork to: \n    Main Street Gallery\n    330 Main St.\n    Ketchikan\, AK 
 99901\n\n2. Email to katyp@ketchikanarts.org\n3. Submit artwork below!\n\n
 Digital artwork must be in a scalable vector graphic format\; EPS\, TIFF\,
  or PNG. (2GB max upload). \nThe finished design is approximately 10” x 10
 ” and is screen printed on the front of a t-shirt. It is easier to shrink 
 an image than to enlarge it. Please consider the size of your final submis
 sion. \nThe design must incorporate the words: “47th Annual Blueberry Arts
  Festival”\, “2022”\, and “Ketchikan\, Alaska”.
X-WR-RELCALID:59b58b1b96d51bd0260d3bbfebfb9985
X-WR-TIMEZONE:America/Anchorage
BEGIN:VTIMEZONE
TZID:America/Anchorage
BEGIN:STANDARD
TZNAME:AKST
DTSTART:20211107T020000
TZOFFSETFROM:-0800
TZOFFSETTO:-0900
RDATE:20221106T020000
END:STANDARD
BEGIN:DAYLIGHT
TZNAME:AKDT
DTSTART:20220313T020000
TZOFFSETFROM:-0900
TZOFFSETTO:-0800
RDATE:20230312T020000
END:DAYLIGHT
END:VTIMEZONE
BEGIN:VEVENT
UID:897944cd-955b-4210-b60f-49c2961424a1
DTSTAMP:20260420T123102Z
DESCRIPTION:Deadline to submit artwork for the 47th annual Blueberry Arts f
 estival  Logo design!!!\n\nThe Ketchikan Area Arts & Humanities Council in
 vites you to submit up to 2 designs for the 2022 Festival logo. The logo i
 s featured on the Blueberry Arts Festival T-shirts and is a cherished meme
 nto from each year’s Festival.  Your artwork will be worn by hundreds of K
 etchikanites\, will travel the world with our summer visitors\, and be fea
 tured on all Festival publicity! New this year there are many ways to subm
 it your artwork to the Arts Council.\n\n1. Mail\, or drop off original art
 work to: \n    Main Street Gallery\n    330 Main St.\n    Ketchikan\, AK 9
 9901\n\n2. Email to katyp@ketchikanarts.org\n3. Submit artwork below!\n\nD
 igital artwork must be in a scalable vector graphic format\; EPS\, TIFF\, 
 or PNG. (2GB max upload). \nThe finished design is approximately 10” x 10”
  and is screen printed on the front of a t-shirt. It is easier to shrink a
 n image than to enlarge it. Please consider the size of your final submiss
 ion. \nThe design must incorporate the words: “47th Annual Blueberry Arts 
 Festival”\, “2022”\, and “Ketchikan\, Alaska”.
DTSTART;TZID=America/Anchorage:20220401T000000
DTEND;TZID=America/Anchorage:20220401T235900
LOCATION:
SUMMARY:47th Annual Blueberry Arts Festival Logo Design Call to Artists
END:VEVENT
END:VCALENDAR
