BEGIN:VCALENDAR
VERSION:2.0
PRODID:-//www.ketchikanarts.org//NONSGML kigkonsult.se iCalcreator 2.30.10/
 /
CALSCALE:GREGORIAN
METHOD:PUBLISH
UID:c78d8cb1-ebc2-4e33-b70b-48fa6dbea9be
X-WR-CALDESC:Ketchikan Area Arts and Humanities Council is excited to prese
 nt our first Torch Night Concert since 2019 at the Saxman Tribal House!!!
 \nSmall Glories is a raucous fun folk duo from Canada that has received 4!
 !! 2020 Canadian Folk Music Awards. Best Contemporary Folk  Album of the Y
 ear\, Ensemble of the Year\, Vocal Group of the Year\, and Break Out Artis
 t of the Year!!! They have wonderful music videos of hit singles 'SING' an
 d 'All My Love' check out their website and their music! Reserved seating 
 only\, Buy your tickets today. $25 each or $20  for Military\, Seniors\, a
 nd Students! Masks required\, proof of vaccination\, or certified negative
  molecular test required.
X-WR-RELCALID:6a052cfa2f50fdd83e4dc836cd587bed
X-WR-TIMEZONE:America/Anchorage
BEGIN:VTIMEZONE
TZID:America/Anchorage
BEGIN:STANDARD
TZNAME:AKST
DTSTART:20211107T020000
TZOFFSETFROM:-0800
TZOFFSETTO:-0900
RDATE:20221106T020000
END:STANDARD
BEGIN:DAYLIGHT
TZNAME:AKDT
DTSTART:20220313T020000
TZOFFSETFROM:-0900
TZOFFSETTO:-0800
RDATE:20230312T020000
END:DAYLIGHT
END:VTIMEZONE
BEGIN:VEVENT
UID:4a3655bf-12e7-4144-a456-fc2ac29f9fd6
DTSTAMP:20260420T135035Z
DESCRIPTION:Ketchikan Area Arts and Humanities Council is excited to presen
 t our first Torch Night Concert since 2019 at the Saxman Tribal House!!!\n
 Small Glories is a raucous fun folk duo from Canada that has received 4!!!
  2020 Canadian Folk Music Awards. Best Contemporary Folk  Album of the Yea
 r\, Ensemble of the Year\, Vocal Group of the Year\, and Break Out Artist 
 of the Year!!! They have wonderful music videos of hit singles 'SING' and 
 'All My Love' check out their website and their music! Reserved seating on
 ly\, Buy your tickets today. $25 each or $20  for Military\, Seniors\, and
  Students! Masks required\, proof of vaccination\, or certified negative m
 olecular test required.
DTSTART;TZID=America/Anchorage:20220319T183000
DTEND;TZID=America/Anchorage:20220319T220000
LOCATION:
SUMMARY:Small Glories
END:VEVENT
END:VCALENDAR
