BEGIN:VCALENDAR
VERSION:2.0
PRODID:-//www.ketchikanarts.org//NONSGML kigkonsult.se iCalcreator 2.30.10/
 /
CALSCALE:GREGORIAN
METHOD:PUBLISH
UID:5fab6657-4d96-4c2c-b570-310b467f72bb
X-WR-CALDESC:Get those applications in for the first annual Youth Wearable 
 Art Show!!! Music needs to be emailed to katyp@ketchikanarts.org\n
X-WR-RELCALID:1f4ac9cb940258377ee1924c515f6f32
X-WR-TIMEZONE:America/Anchorage
BEGIN:VTIMEZONE
TZID:America/Anchorage
BEGIN:STANDARD
TZNAME:AKST
DTSTART:20211107T020000
TZOFFSETFROM:-0800
TZOFFSETTO:-0900
RDATE:20221106T020000
END:STANDARD
BEGIN:DAYLIGHT
TZNAME:AKDT
DTSTART:20220313T020000
TZOFFSETFROM:-0900
TZOFFSETTO:-0800
RDATE:20230312T020000
END:DAYLIGHT
END:VTIMEZONE
BEGIN:VEVENT
UID:b3ab1a33-7dbb-4967-bbfc-22ce58fa652e
DTSTAMP:20260420T135035Z
DESCRIPTION:Get those applications in for the first annual Youth Wearable A
 rt Show!!! Music needs to be emailed to katyp@ketchikanarts.org\n
DTSTART;TZID=America/Anchorage:20220318T000000
DTEND;TZID=America/Anchorage:20220318T235900
LOCATION:
SUMMARY:Calling all artists to the Youth Wearable Art Show
END:VEVENT
END:VCALENDAR
