BEGIN:VCALENDAR
VERSION:2.0
PRODID:-//www.ketchikanarts.org//NONSGML kigkonsult.se iCalcreator 2.30.10/
 /
CALSCALE:GREGORIAN
METHOD:PUBLISH
UID:f72e9a4c-05cc-4e26-8d05-2e5d451f1d69
X-WR-CALDESC:A presentation illustrating the transformation of raw material
 s into exquisite works of art. In-person class size is limited\, please ca
 ll 907-225-2211 to sign up. The presentation will be available on the Ketc
 hikan Area Arts and Humanities Facebook page at 1:10 pm Alaska Time.
X-WR-RELCALID:89f59aeed12eb22c605a184c9cb86c56
X-WR-TIMEZONE:America/Anchorage
BEGIN:VTIMEZONE
TZID:America/Anchorage
BEGIN:STANDARD
TZNAME:AKST
DTSTART:20211107T020000
TZOFFSETFROM:-0800
TZOFFSETTO:-0900
RDATE:20221106T020000
END:STANDARD
BEGIN:DAYLIGHT
TZNAME:AKDT
DTSTART:20210314T020000
TZOFFSETFROM:-0900
TZOFFSETTO:-0800
RDATE:20220313T020000
RDATE:20230312T020000
END:DAYLIGHT
END:VTIMEZONE
BEGIN:VEVENT
UID:14dad626-b4da-495b-b0d8-4722f4cebb42
DTSTAMP:20260420T135102Z
DESCRIPTION:A presentation illustrating the transformation of raw materials
  into exquisite works of art. In-person class size is limited\, please cal
 l 907-225-2211 to sign up. The presentation will be available on the Ketch
 ikan Area Arts and Humanities Facebook page at 1:10 pm Alaska Time.
DTSTART;TZID=America/Anchorage:20220312T130000
DTEND;TZID=America/Anchorage:20220312T140000
LOCATION:
SUMMARY:Artist Presentation - Stacey Williams
END:VEVENT
END:VCALENDAR
