BEGIN:VCALENDAR
VERSION:2.0
PRODID:-//www.ketchikanarts.org//NONSGML kigkonsult.se iCalcreator 2.30.10/
 /
CALSCALE:GREGORIAN
METHOD:PUBLISH
UID:d2727892-72f1-441e-9e0e-5cead31110a3
X-WR-CALDESC:The Commons Gallery is Ketchikan’s newest gallery space\, loca
 ted in one of Ketchikan’s newest gathering spots The Comons at TFCU. The o
 verall focus of the new space is to support and encourage entrepreneurial 
 efforts by providing temporary office space\, meeting spaces\, and small b
 usiness assistance. In addition\, TFCU has built a coffee bar and restaura
 nt in the space Pilot House Coffee\, which creates a common area. It is in
  this common area that The Commons Gallery lives. In the entrepreneurial s
 pirit of the venue\, artists are invited to exhibit in two different ways.
  The vision for the Commons Gallery is to help inspire emerging and establ
 ished artists by providing flexible exhibit space for artists working in a
 ll mediums.
X-WR-RELCALID:542d8cf750bf1cbf30f7840e0684c0e3
X-WR-TIMEZONE:America/Anchorage
BEGIN:VTIMEZONE
TZID:America/Anchorage
BEGIN:STANDARD
TZNAME:AKST
DTSTART:20211107T020000
TZOFFSETFROM:-0800
TZOFFSETTO:-0900
RDATE:20221106T020000
END:STANDARD
BEGIN:DAYLIGHT
TZNAME:AKDT
DTSTART:20210314T020000
TZOFFSETFROM:-0900
TZOFFSETTO:-0800
RDATE:20220313T020000
RDATE:20230312T020000
END:DAYLIGHT
END:VTIMEZONE
BEGIN:VEVENT
UID:79c748a0-47c4-412d-996d-af1c5b791c66
DTSTAMP:20260420T134958Z
DESCRIPTION:The Commons Gallery is Ketchikan’s newest gallery space\, locat
 ed in one of Ketchikan’s newest gathering spots The Comons at TFCU. The ov
 erall focus of the new space is to support and encourage entrepreneurial e
 fforts by providing temporary office space\, meeting spaces\, and small bu
 siness assistance. In addition\, TFCU has built a coffee bar and restauran
 t in the space Pilot House Coffee\, which creates a common area. It is in 
 this common area that The Commons Gallery lives. In the entrepreneurial sp
 irit of the venue\, artists are invited to exhibit in two different ways. 
 The vision for the Commons Gallery is to help inspire emerging and establi
 shed artists by providing flexible exhibit space for artists working in al
 l mediums.
DTSTART;TZID=America/Anchorage:20220304T090000
DTEND;TZID=America/Anchorage:20220304T170000
LOCATION:
SUMMARY:The Commons Gallery 2nd Quarter Deadline
END:VEVENT
END:VCALENDAR
