BEGIN:VCALENDAR
VERSION:2.0
PRODID:-//www.ketchikanarts.org//NONSGML kigkonsult.se iCalcreator 2.30.10/
 /
CALSCALE:GREGORIAN
METHOD:PUBLISH
UID:f2e75f94-8aeb-4d17-96b7-4841621b129b
X-WR-CALDESC:Artist Stacey Williams has created an educational and interact
 ive exhibit in her first Main Street Gallery solo exhibit\, 'Learning Thro
 ugh Teaching' that encourages all ages to learn about the Alaska Native we
 aving practices of Southeast. Everyone is welcome to interact with the exh
 ibit and take advantage of the opportunity to contribute to a community ar
 t project. \n\nJoin Stacey for her Artist Presentation on Saturday\, March
  12th\, from 1:00 pm to 2:00 pm as she illustrates the transformation of r
 aw materials into exquisite works of art. Class size is limited\, please c
 all the Arts and Humanities Council to register 907-225-2211
X-WR-RELCALID:e86091d9138fe1a5b1143ccd785207cd
X-WR-TIMEZONE:America/Anchorage
BEGIN:VTIMEZONE
TZID:America/Anchorage
BEGIN:STANDARD
TZNAME:AKST
DTSTART:20211107T020000
TZOFFSETFROM:-0800
TZOFFSETTO:-0900
RDATE:20221106T020000
END:STANDARD
BEGIN:DAYLIGHT
TZNAME:AKDT
DTSTART:20210314T020000
TZOFFSETFROM:-0900
TZOFFSETTO:-0800
RDATE:20220313T020000
RDATE:20230312T020000
END:DAYLIGHT
END:VTIMEZONE
BEGIN:VEVENT
UID:2b319a2c-b81f-4ff0-a7e8-388b8a3a9ff0
DTSTAMP:20260420T134901Z
DESCRIPTION:Artist Stacey Williams has created an educational and interacti
 ve exhibit in her first Main Street Gallery solo exhibit\, 'Learning Throu
 gh Teaching' that encourages all ages to learn about the Alaska Native wea
 ving practices of Southeast. Everyone is welcome to interact with the exhi
 bit and take advantage of the opportunity to contribute to a community art
  project. \n\nJoin Stacey for her Artist Presentation on Saturday\, March 
 12th\, from 1:00 pm to 2:00 pm as she illustrates the transformation of ra
 w materials into exquisite works of art. Class size is limited\, please ca
 ll the Arts and Humanities Council to register 907-225-2211
DTSTART;TZID=America/Anchorage:20220304T170000
DTEND;TZID=America/Anchorage:20220304T190000
LOCATION:
SUMMARY:Opening Reception of 'Learning Through Teaching'
END:VEVENT
END:VCALENDAR
