BEGIN:VCALENDAR
VERSION:2.0
PRODID:-//www.ketchikanarts.org//NONSGML kigkonsult.se iCalcreator 2.30.10/
 /
CALSCALE:GREGORIAN
METHOD:PUBLISH
UID:d365d157-6121-41f9-98d9-f9aa2a3ea3ed
X-WR-CALDESC:Sustaining Community: How We Gather & Why It Matters explores 
 the ways and reasons we gather to the ways we develop a sense of identity 
 and meaning from those interactions with people and place. Interviews\, im
 ages\, and objects tell a story across time of our enduring lifestyle and 
 community pride.\n\nPlease join the Tongass Historical Museum in the celeb
 ration of community in this featured exhibition opening Friday\, March 4 f
 rom 5-7:00 p.m. Ketchikan-themed snack boxes will be available for the fir
 st 100 visitors to take home and enjoy.
X-WR-RELCALID:8d43736ad316f55b56a747978491a05d
X-WR-TIMEZONE:America/Anchorage
BEGIN:VTIMEZONE
TZID:America/Anchorage
BEGIN:STANDARD
TZNAME:AKST
DTSTART:20211107T020000
TZOFFSETFROM:-0800
TZOFFSETTO:-0900
RDATE:20221106T020000
END:STANDARD
BEGIN:DAYLIGHT
TZNAME:AKDT
DTSTART:20210314T020000
TZOFFSETFROM:-0900
TZOFFSETTO:-0800
RDATE:20220313T020000
RDATE:20230312T020000
END:DAYLIGHT
END:VTIMEZONE
BEGIN:VEVENT
UID:ad05db1f-5ad2-4093-a9c7-ddac21a7e0c4
DTSTAMP:20260420T135230Z
DESCRIPTION:Sustaining Community: How We Gather & Why It Matters explores t
 he ways and reasons we gather to the ways we develop a sense of identity a
 nd meaning from those interactions with people and place. Interviews\, ima
 ges\, and objects tell a story across time of our enduring lifestyle and c
 ommunity pride.\n\nPlease join the Tongass Historical Museum in the celebr
 ation of community in this featured exhibition opening Friday\, March 4 fr
 om 5-7:00 p.m. Ketchikan-themed snack boxes will be available for the firs
 t 100 visitors to take home and enjoy.
DTSTART;TZID=America/Anchorage:20220304T170000
DTEND;TZID=America/Anchorage:20220304T190000
LOCATION:Tongass Historical Museum
SUMMARY:'Sustaining Community' Tongass Hisotrical Museum Opening
END:VEVENT
END:VCALENDAR
