BEGIN:VCALENDAR
VERSION:2.0
PRODID:-//www.ketchikanarts.org//NONSGML kigkonsult.se iCalcreator 2.30.10/
 /
CALSCALE:GREGORIAN
METHOD:PUBLISH
UID:0988f860-aca7-4f13-96cb-3756cd2ca847
X-WR-CALDESC:Sponsored by US Forest Service\, National Park Service & US Fi
 sh & Wildlife Service\n\nResidencies open to:  Art professionals in all me
 dia – visual (two and three dimensional: photographers\, sculptors\, paint
 ers\, etc.)\, audio (musicians\, singers\, composers)\, film (video/filmma
 kers)\, performance artists\, and writers (poets\, fiction\, essays\, stor
 ytellers).  International artists are welcome to apply.\n\nResidency perio
 d: Typically June through August\; dates & length of residencies vary.\n\n
 Coordinator contact:  Barbara Lydon at barbara.lydon@usda.gov\n
X-WR-RELCALID:bef736159b4c56b1c5b2bbf568910914
X-WR-TIMEZONE:America/Anchorage
BEGIN:VTIMEZONE
TZID:America/Anchorage
BEGIN:STANDARD
TZNAME:AKST
DTSTART:20211107T020000
TZOFFSETFROM:-0800
TZOFFSETTO:-0900
RDATE:20221106T020000
END:STANDARD
BEGIN:DAYLIGHT
TZNAME:AKDT
DTSTART:20210314T020000
TZOFFSETFROM:-0900
TZOFFSETTO:-0800
RDATE:20220313T020000
RDATE:20230312T020000
END:DAYLIGHT
END:VTIMEZONE
BEGIN:VEVENT
UID:9221de14-ca82-44f8-bdc7-7e4eeff60f36
DTSTAMP:20260420T135102Z
DESCRIPTION:Sponsored by US Forest Service\, National Park Service & US Fis
 h & Wildlife Service\n\nResidencies open to:  Art professionals in all med
 ia – visual (two and three dimensional: photographers\, sculptors\, painte
 rs\, etc.)\, audio (musicians\, singers\, composers)\, film (video/filmmak
 ers)\, performance artists\, and writers (poets\, fiction\, essays\, story
 tellers).  International artists are welcome to apply.\n\nResidency period
 : Typically June through August\; dates & length of residencies vary.\n\nC
 oordinator contact:  Barbara Lydon at barbara.lydon@usda.gov\n
DTSTART;TZID=America/Anchorage:20220301T000000
DTEND;TZID=America/Anchorage:20220301T235900
LOCATION:
SUMMARY:Voices of the Wilderness
END:VEVENT
END:VCALENDAR
