BEGIN:VCALENDAR
VERSION:2.0
PRODID:-//www.ketchikanarts.org//NONSGML kigkonsult.se iCalcreator 2.30.10/
 /
CALSCALE:GREGORIAN
METHOD:PUBLISH
UID:edba3f1d-5b7c-4e81-bbbb-d952fa3f9098
X-WR-CALDESC:Class sizes are limited - register now!!!
X-WR-RELCALID:c0eafb9f46439d3f4e9f5de64596247f
X-WR-TIMEZONE:America/Anchorage
BEGIN:VTIMEZONE
TZID:America/Anchorage
BEGIN:STANDARD
TZNAME:AKST
DTSTART:20211107T020000
TZOFFSETFROM:-0800
TZOFFSETTO:-0900
RDATE:20221106T020000
END:STANDARD
BEGIN:DAYLIGHT
TZNAME:AKDT
DTSTART:20210314T020000
TZOFFSETFROM:-0900
TZOFFSETTO:-0800
RDATE:20220313T020000
RDATE:20230312T020000
END:DAYLIGHT
END:VTIMEZONE
BEGIN:VEVENT
UID:06337a8a-eef9-41c3-844f-68fe9f0d8bbd
DTSTAMP:20260420T150526Z
DESCRIPTION:Class sizes are limited - register now!!!
DTSTART;TZID=America/Anchorage:20220228T160000
DTEND;TZID=America/Anchorage:20220228T170000
LOCATION:
SUMMARY:'StarPath Theatre Classes' begin! First City Players
END:VEVENT
END:VCALENDAR
