BEGIN:VCALENDAR
VERSION:2.0
PRODID:-//www.ketchikanarts.org//NONSGML kigkonsult.se iCalcreator 2.30.10/
 /
CALSCALE:GREGORIAN
METHOD:PUBLISH
UID:5293e9ba-05d8-498c-bac4-aa97de4e5349
X-WR-CALDESC:Playwright Sarah Ruhl's interpretation of the classic Greek my
 th of Orpheus takes on the timeless tale of ill-fated love from the perspe
 ctive of Eurydice (yuh-RID-uh-see)\, Orpheus's wife. We follow Eurydice to
  Hades\, the underworld\, where she meets her fallen father and struggles 
 to remember her life from before...
X-WR-RELCALID:cb9cb96cdbb617a62196ccb7450f5013
X-WR-TIMEZONE:America/Anchorage
BEGIN:VTIMEZONE
TZID:America/Anchorage
BEGIN:STANDARD
TZNAME:AKST
DTSTART:20211107T020000
TZOFFSETFROM:-0800
TZOFFSETTO:-0900
RDATE:20221106T020000
END:STANDARD
BEGIN:DAYLIGHT
TZNAME:AKDT
DTSTART:20210314T020000
TZOFFSETFROM:-0900
TZOFFSETTO:-0800
RDATE:20220313T020000
RDATE:20230312T020000
END:DAYLIGHT
END:VTIMEZONE
BEGIN:VEVENT
UID:b76405fc-9c47-4baf-bed0-54b26ec2af3b
DTSTAMP:20260420T150521Z
DESCRIPTION:Playwright Sarah Ruhl's interpretation of the classic Greek myt
 h of Orpheus takes on the timeless tale of ill-fated love from the perspec
 tive of Eurydice (yuh-RID-uh-see)\, Orpheus's wife. We follow Eurydice to 
 Hades\, the underworld\, where she meets her fallen father and struggles t
 o remember her life from before...
DTSTART;TZID=America/Anchorage:20220225T193000
DTEND;TZID=America/Anchorage:20220225T213000
LOCATION:Kayhi Auditorium
SUMMARY:'Eurydice' - First City Players
END:VEVENT
END:VCALENDAR
