BEGIN:VCALENDAR
VERSION:2.0
PRODID:-//www.ketchikanarts.org//NONSGML kigkonsult.se iCalcreator 2.30.10/
 /
CALSCALE:GREGORIAN
METHOD:PUBLISH
UID:397daf1b-1f7a-42a6-994f-b9282777d79d
X-WR-CALDESC:Enjoy the indie/folksy/eclectic/jazy acoustic melodies of Ketc
 hikan's finest trio!
X-WR-RELCALID:fbd463ee00cf76428d9f167c757c1749
X-WR-TIMEZONE:America/Anchorage
BEGIN:VTIMEZONE
TZID:America/Anchorage
BEGIN:STANDARD
TZNAME:AKST
DTSTART:20211107T020000
TZOFFSETFROM:-0800
TZOFFSETTO:-0900
RDATE:20221106T020000
END:STANDARD
BEGIN:DAYLIGHT
TZNAME:AKDT
DTSTART:20210314T020000
TZOFFSETFROM:-0900
TZOFFSETTO:-0800
RDATE:20220313T020000
RDATE:20230312T020000
END:DAYLIGHT
END:VTIMEZONE
BEGIN:VEVENT
UID:9b69560e-767d-4f9a-8cdb-2796cefa742e
DTSTAMP:20260420T150655Z
DESCRIPTION:Enjoy the indie/folksy/eclectic/jazy acoustic melodies of Ketch
 ikan's finest trio!
DTSTART;TZID=America/Anchorage:20220218T190000
DTEND;TZID=America/Anchorage:20220218T210000
LOCATION:New York Cafe
SUMMARY:Dave\, Hannah\, and Chazz
END:VEVENT
END:VCALENDAR
