BEGIN:VCALENDAR
VERSION:2.0
PRODID:-//www.ketchikanarts.org//NONSGML kigkonsult.se iCalcreator 2.30.10/
 /
CALSCALE:GREGORIAN
METHOD:PUBLISH
UID:bb1bfcff-b551-4ae5-a3f6-07184bdc1f09
X-WR-CALDESC:Monthly Board of Directors Meeting. Currently all KAAHC Board 
 meetings are held via ZOOM. If you would like to attend a Board meeting pl
 ease contact Kathleen Light for for attendance information. kathleenl@ketc
 hikanarts.org
X-WR-RELCALID:4b55f5ed5645861bd7167e77e25d654a
X-WR-TIMEZONE:America/Anchorage
BEGIN:VTIMEZONE
TZID:America/Anchorage
BEGIN:STANDARD
TZNAME:AKST
DTSTART:20211107T020000
TZOFFSETFROM:-0800
TZOFFSETTO:-0900
RDATE:20221106T020000
END:STANDARD
BEGIN:DAYLIGHT
TZNAME:AKDT
DTSTART:20210314T020000
TZOFFSETFROM:-0900
TZOFFSETTO:-0800
RDATE:20220313T020000
RDATE:20230312T020000
END:DAYLIGHT
END:VTIMEZONE
BEGIN:VEVENT
UID:82346df0-bc9b-424c-87ee-d47015d2ffa6
DTSTAMP:20260420T151331Z
DESCRIPTION:Monthly Board of Directors Meeting. Currently all KAAHC Board m
 eetings are held via ZOOM. If you would like to attend a Board meeting ple
 ase contact Kathleen Light for for attendance information. kathleenl@ketch
 ikanarts.org
DTSTART;TZID=America/Anchorage:20220216T173000
DTEND;TZID=America/Anchorage:20220216T190000
LOCATION:Main Street Gallery
SUMMARY:Ketchikan Area Arts and Humanities Board of Directors Meeting
END:VEVENT
END:VCALENDAR
