BEGIN:VCALENDAR
VERSION:2.0
PRODID:-//www.ketchikanarts.org//NONSGML kigkonsult.se iCalcreator 2.30.10/
 /
CALSCALE:GREGORIAN
METHOD:PUBLISH
UID:b0ec1cb4-4791-46a0-b2d7-f98f87b1e107
X-WR-CALDESC:Amber Lords will teach a fun and creative class! Make a beauti
 ful Valentine Heart with vintage costume jewery! All supplies provided!!! 
 \n$35 each Must register by phone! Call the KAAHC to register!
X-WR-RELCALID:88e9c744e9048ffa575a94269e26855a
X-WR-TIMEZONE:America/Anchorage
BEGIN:VTIMEZONE
TZID:America/Anchorage
BEGIN:STANDARD
TZNAME:AKST
DTSTART:20211107T020000
TZOFFSETFROM:-0800
TZOFFSETTO:-0900
RDATE:20221106T020000
END:STANDARD
BEGIN:DAYLIGHT
TZNAME:AKDT
DTSTART:20210314T020000
TZOFFSETFROM:-0900
TZOFFSETTO:-0800
RDATE:20220313T020000
RDATE:20230312T020000
END:DAYLIGHT
END:VTIMEZONE
BEGIN:VEVENT
UID:c5fe5dfa-242f-4f4e-9281-36a8cb124686
DTSTAMP:20260420T150331Z
DESCRIPTION:Amber Lords will teach a fun and creative class! Make a beautif
 ul Valentine Heart with vintage costume jewery! All supplies provided!!! 
 \n$35 each Must register by phone! Call the KAAHC to register!
DTSTART;TZID=America/Anchorage:20220210T190000
DTEND;TZID=America/Anchorage:20220210T210000
LOCATION:
SUMMARY:Arts Uncorked with Amber Lords
END:VEVENT
END:VCALENDAR
