BEGIN:VCALENDAR
VERSION:2.0
PRODID:-//www.ketchikanarts.org//NONSGML kigkonsult.se iCalcreator 2.30.10/
 /
CALSCALE:GREGORIAN
METHOD:PUBLISH
UID:37f192d5-2815-4c0e-b53f-2d1757098c3a
X-WR-CALDESC:Enjoy the indie/folksy/eclectic/jazy acoustic melodies of Ketc
 hikan's finest trio!
X-WR-RELCALID:a4a9e72a7148c19352152dcf1ac9e0ee
X-WR-TIMEZONE:America/Anchorage
BEGIN:VTIMEZONE
TZID:America/Anchorage
BEGIN:STANDARD
TZNAME:AKST
DTSTART:20211107T020000
TZOFFSETFROM:-0800
TZOFFSETTO:-0900
RDATE:20221106T020000
END:STANDARD
BEGIN:DAYLIGHT
TZNAME:AKDT
DTSTART:20210314T020000
TZOFFSETFROM:-0900
TZOFFSETTO:-0800
RDATE:20220313T020000
RDATE:20230312T020000
END:DAYLIGHT
END:VTIMEZONE
BEGIN:VEVENT
UID:a97e2dd1-cdba-4814-ace3-2fd833bf049b
DTSTAMP:20260420T150628Z
DESCRIPTION:Enjoy the indie/folksy/eclectic/jazy acoustic melodies of Ketch
 ikan's finest trio!
DTSTART;TZID=America/Anchorage:20220204T190000
DTEND;TZID=America/Anchorage:20220204T210000
LOCATION:New York Cafe
SUMMARY:Dave\, Hannah\, and Chazz
END:VEVENT
END:VCALENDAR
