BEGIN:VCALENDAR
VERSION:2.0
PRODID:-//www.ketchikanarts.org//NONSGML kigkonsult.se iCalcreator 2.30.10/
 /
CALSCALE:GREGORIAN
METHOD:PUBLISH
UID:daf22b9e-c24b-4742-9b45-7355eb63843a
X-WR-CALDESC:
X-WR-RELCALID:77cc3866ca068c1b93926243d1497575
X-WR-TIMEZONE:America/Anchorage
BEGIN:VTIMEZONE
TZID:America/Anchorage
BEGIN:STANDARD
TZNAME:AKST
DTSTART:20211107T020000
TZOFFSETFROM:-0800
TZOFFSETTO:-0900
RDATE:20221106T020000
END:STANDARD
BEGIN:DAYLIGHT
TZNAME:AKDT
DTSTART:20210314T020000
TZOFFSETFROM:-0900
TZOFFSETTO:-0800
RDATE:20220313T020000
RDATE:20230312T020000
END:DAYLIGHT
END:VTIMEZONE
BEGIN:VEVENT
UID:36778d80-13eb-4fd4-b901-bcc9eb37f091
DTSTAMP:20260420T150849Z
DESCRIPTION:
DTSTART;TZID=America/Anchorage:20220204T200000
DTEND;TZID=America/Anchorage:20220204T220000
LOCATION:
SUMMARY:'Under Construction' The 36th Annual Wearable Art Show!
END:VEVENT
END:VCALENDAR
