BEGIN:VCALENDAR
VERSION:2.0
PRODID:-//www.ketchikanarts.org//NONSGML kigkonsult.se iCalcreator 2.30.10/
 /
CALSCALE:GREGORIAN
METHOD:PUBLISH
UID:db80d058-063b-4f56-aa29-ca57157a7845
X-WR-CALDESC:Calling all artists!!!!  ANB/ANS Camp 14's Elizabeth Peratrovi
 ch Day art gallery at the Southeast Alaska Discovery Center!!! See poster 
 for Details
X-WR-RELCALID:16d252e192098608cfac15b74fdc929d
X-WR-TIMEZONE:America/Anchorage
BEGIN:VTIMEZONE
TZID:America/Anchorage
BEGIN:STANDARD
TZNAME:AKST
DTSTART:20211107T020000
TZOFFSETFROM:-0800
TZOFFSETTO:-0900
RDATE:20221106T020000
END:STANDARD
BEGIN:DAYLIGHT
TZNAME:AKDT
DTSTART:20210314T020000
TZOFFSETFROM:-0900
TZOFFSETTO:-0800
RDATE:20220313T020000
RDATE:20230312T020000
END:DAYLIGHT
END:VTIMEZONE
BEGIN:VEVENT
UID:5e74ece7-489b-4766-89ee-f3050d7c9840
DTSTAMP:20260420T193527Z
DESCRIPTION:Calling all artists!!!!  ANB/ANS Camp 14's Elizabeth Peratrovic
 h Day art gallery at the Southeast Alaska Discovery Center!!! See poster f
 or Details
DTSTART;TZID=America/Anchorage:20220201T110000
DTEND;TZID=America/Anchorage:20220201T170000
LOCATION:
SUMMARY:ANB/ANS Camp 14's Elizabeth Peratrovich Day Call to Artists
END:VEVENT
END:VCALENDAR
