BEGIN:VCALENDAR
VERSION:2.0
PRODID:-//www.ketchikanarts.org//NONSGML kigkonsult.se iCalcreator 2.30.10/
 /
CALSCALE:GREGORIAN
METHOD:PUBLISH
UID:f7caccda-c975-438c-85fb-c702cf689bbd
X-WR-CALDESC:Diane Slagle hosts  blues on-demand piano bar
X-WR-RELCALID:edeea31cfb543c010feb7f83679efa4e
X-WR-TIMEZONE:America/Anchorage
BEGIN:VTIMEZONE
TZID:America/Anchorage
BEGIN:STANDARD
TZNAME:AKST
DTSTART:20211107T020000
TZOFFSETFROM:-0800
TZOFFSETTO:-0900
RDATE:20221106T020000
END:STANDARD
BEGIN:DAYLIGHT
TZNAME:AKDT
DTSTART:20210314T020000
TZOFFSETFROM:-0900
TZOFFSETTO:-0800
RDATE:20220313T020000
RDATE:20230312T020000
END:DAYLIGHT
END:VTIMEZONE
BEGIN:VEVENT
UID:8cd859ff-70f0-4292-a12e-bb40df079263
DTSTAMP:20260420T163657Z
DESCRIPTION:Diane Slagle hosts  blues on-demand piano bar
DTSTART;TZID=America/Anchorage:20220129T170000
DTEND;TZID=America/Anchorage:20220129T200000
LOCATION:Alaska Fish House
SUMMARY:Piano Bar with Diane Slagle
END:VEVENT
END:VCALENDAR
