BEGIN:VCALENDAR
VERSION:2.0
PRODID:-//www.ketchikanarts.org//NONSGML kigkonsult.se iCalcreator 2.30.10/
 /
CALSCALE:GREGORIAN
METHOD:PUBLISH
UID:aa6dbdc5-a346-458c-a959-725de8c0b0c2
X-WR-CALDESC:2022 Jazz & Cabaret Gala Performances
X-WR-RELCALID:cc9d9ab917213f68c715f3cfeb810f6e
X-WR-TIMEZONE:America/Anchorage
BEGIN:VTIMEZONE
TZID:America/Anchorage
BEGIN:STANDARD
TZNAME:AKST
DTSTART:20211107T020000
TZOFFSETFROM:-0800
TZOFFSETTO:-0900
RDATE:20221106T020000
END:STANDARD
BEGIN:DAYLIGHT
TZNAME:AKDT
DTSTART:20210314T020000
TZOFFSETFROM:-0900
TZOFFSETTO:-0800
RDATE:20220313T020000
RDATE:20230312T020000
END:DAYLIGHT
END:VTIMEZONE
BEGIN:VEVENT
UID:ac37a8ee-7097-47db-96fa-35c990c7afed
DTSTAMP:20260420T163342Z
DESCRIPTION:2022 Jazz & Cabaret Gala Performances
DTSTART;TZID=America/Anchorage:20220122T063000
DTEND;TZID=America/Anchorage:20220122T073000
LOCATION:
SUMMARY:Jazz Cab
END:VEVENT
END:VCALENDAR
