BEGIN:VCALENDAR
VERSION:2.0
PRODID:-//www.ketchikanarts.org//NONSGML kigkonsult.se iCalcreator 2.30.10/
 /
CALSCALE:GREGORIAN
METHOD:PUBLISH
UID:e125dfc6-4d7e-4b1d-9bb5-da54af04791c
X-WR-CALDESC:Artist Professional Development Series Tax Awareness for Artis
 ts with Nancy Tietje
X-WR-RELCALID:5006deddd71592944fbc9403e71e544d
X-WR-TIMEZONE:America/Anchorage
BEGIN:VTIMEZONE
TZID:America/Anchorage
BEGIN:STANDARD
TZNAME:AKST
DTSTART:20211107T020000
TZOFFSETFROM:-0800
TZOFFSETTO:-0900
RDATE:20221106T020000
END:STANDARD
BEGIN:DAYLIGHT
TZNAME:AKDT
DTSTART:20210314T020000
TZOFFSETFROM:-0900
TZOFFSETTO:-0800
RDATE:20220313T020000
RDATE:20230312T020000
END:DAYLIGHT
END:VTIMEZONE
BEGIN:VEVENT
UID:fb865f25-7bf2-43c7-b69e-cff7a6bb63c9
DTSTAMP:20260420T163606Z
DESCRIPTION:Artist Professional Development Series Tax Awareness for Artist
 s with Nancy Tietje
DTSTART;TZID=America/Anchorage:20220120T173000
DTEND;TZID=America/Anchorage:20220120T183000
LOCATION:
SUMMARY:Tax Awareness for Artists
END:VEVENT
END:VCALENDAR
