BEGIN:VCALENDAR
VERSION:2.0
PRODID:-//www.ketchikanarts.org//NONSGML kigkonsult.se iCalcreator 2.30.10/
 /
CALSCALE:GREGORIAN
METHOD:PUBLISH
UID:16ea2b3f-7698-471f-80ed-e2f8d367276c
X-WR-CALDESC:Loud and Queer Quarterly is looking for submissions for their 
 next publication!!! The community can submit drawings\, paintings\, cartoo
 ns\, poetry\, writing... all submissions should be your original work.  Se
 e your work in the next issue of Loud and Queer! Submissions are due Frida
 y\, February\, 4\nAll submissions can be sent to loudandqueerketchikan@gma
 il.com
X-WR-RELCALID:c32ef1d552997583d4b4ecf712e30df8
X-WR-TIMEZONE:America/Anchorage
BEGIN:VTIMEZONE
TZID:America/Anchorage
BEGIN:STANDARD
TZNAME:AKST
DTSTART:20211107T020000
TZOFFSETFROM:-0800
TZOFFSETTO:-0900
RDATE:20221106T020000
END:STANDARD
BEGIN:DAYLIGHT
TZNAME:AKDT
DTSTART:20210314T020000
TZOFFSETFROM:-0900
TZOFFSETTO:-0800
RDATE:20220313T020000
RDATE:20230312T020000
END:DAYLIGHT
END:VTIMEZONE
BEGIN:VEVENT
UID:6ff2d738-c189-416f-ac08-0b583ae5b280
DTSTAMP:20260420T163258Z
DESCRIPTION:Loud and Queer Quarterly is looking for submissions for their n
 ext publication!!! The community can submit drawings\, paintings\, cartoon
 s\, poetry\, writing... all submissions should be your original work.  See
  your work in the next issue of Loud and Queer! Submissions are due Friday
 \, February\, 4\nAll submissions can be sent to loudandqueerketchikan@gmai
 l.com
DTSTART;TZID=America/Anchorage:20220120T150000
DTEND;TZID=America/Anchorage:20220120T160000
LOCATION:
SUMMARY:Loud and Queer call for
END:VEVENT
END:VCALENDAR
