BEGIN:VCALENDAR
VERSION:2.0
PRODID:-//www.ketchikanarts.org//NONSGML kigkonsult.se iCalcreator 2.30.10/
 /
CALSCALE:GREGORIAN
METHOD:PUBLISH
UID:a17cabd3-f793-4d88-9371-bcc987285929
X-WR-CALDESC:The 1st Quarter exhibit of 2022 at The Commons Gallery is Home
 r\, brushwork artist Sharlene Cline! She has created a beautiful solo exhi
 bit just for Ketchikan. She intricately paints layered rice paper with loc
 al Southeast flora and fauna\, devil's club\, fireweed\, sandpipers\, blac
 k-capped chickadees\, and the great blue heron feature as her subjects! \n
 \nWelcome\, Sharlene Cline at the opening reception on January 14th!  All 
 pieces will be available for purchase. Purchase artwork online at www.ketc
 hikanarts.org starting on January 17th.
X-WR-RELCALID:23270ba07da881487e128c3fbd29ca72
X-WR-TIMEZONE:America/Anchorage
BEGIN:VTIMEZONE
TZID:America/Anchorage
BEGIN:STANDARD
TZNAME:AKST
DTSTART:20211107T020000
TZOFFSETFROM:-0800
TZOFFSETTO:-0900
RDATE:20221106T020000
END:STANDARD
BEGIN:DAYLIGHT
TZNAME:AKDT
DTSTART:20210314T020000
TZOFFSETFROM:-0900
TZOFFSETTO:-0800
RDATE:20220313T020000
RDATE:20230312T020000
END:DAYLIGHT
END:VTIMEZONE
BEGIN:VEVENT
UID:e9b77ac7-88b0-475b-9d26-eebca787a9a5
DTSTAMP:20260420T164027Z
DESCRIPTION:The 1st Quarter exhibit of 2022 at The Commons Gallery is Homer
 \, brushwork artist Sharlene Cline! She has created a beautiful solo exhib
 it just for Ketchikan. She intricately paints layered rice paper with loca
 l Southeast flora and fauna\, devil's club\, fireweed\, sandpipers\, black
 -capped chickadees\, and the great blue heron feature as her subjects! \n
 \nWelcome\, Sharlene Cline at the opening reception on January 14th!  All 
 pieces will be available for purchase. Purchase artwork online at www.ketc
 hikanarts.org starting on January 17th.
DTSTART;TZID=America/Anchorage:20220114T170000
DTEND;TZID=America/Anchorage:20220114T190000
LOCATION:
SUMMARY:1st Quarter at The Commons Gallery Opening Reception for artist Sha
 rlene Cline!
END:VEVENT
END:VCALENDAR
