BEGIN:VCALENDAR
VERSION:2.0
PRODID:-//www.ketchikanarts.org//NONSGML kigkonsult.se iCalcreator 2.30.10/
 /
CALSCALE:GREGORIAN
METHOD:PUBLISH
UID:d4b1ed2b-55d2-4542-ab7f-6a0e9b6dc5c9
X-WR-CALDESC:
X-WR-RELCALID:e478756c2945d9220de0f06362b12ed9
X-WR-TIMEZONE:America/Anchorage
BEGIN:VTIMEZONE
TZID:America/Anchorage
BEGIN:STANDARD
TZNAME:AKST
DTSTART:20211107T020000
TZOFFSETFROM:-0800
TZOFFSETTO:-0900
RDATE:20221106T020000
END:STANDARD
BEGIN:DAYLIGHT
TZNAME:AKDT
DTSTART:20210314T020000
TZOFFSETFROM:-0900
TZOFFSETTO:-0800
RDATE:20220313T020000
RDATE:20230312T020000
END:DAYLIGHT
END:VTIMEZONE
BEGIN:VEVENT
UID:3fceca37-f0d2-4f9f-8029-49fe121d3a7b
DTSTAMP:20260420T163540Z
DESCRIPTION:
DTSTART;TZID=America/Anchorage:20220110T000000
DTEND;TZID=America/Anchorage:20220110T235900
LOCATION:
SUMMARY:Wearable Art Show Registration DUE!!!
END:VEVENT
END:VCALENDAR
