BEGIN:VCALENDAR
VERSION:2.0
PRODID:-//www.ketchikanarts.org//NONSGML kigkonsult.se iCalcreator 2.30.10/
 /
CALSCALE:GREGORIAN
METHOD:PUBLISH
UID:cac6b14c-6777-48e2-b515-4e0f4b539e88
X-WR-CALDESC:Shop Local Saturdays Market\nEnjoy\, shop\, support local art 
 vendors\, and enjoy the awesome artwork at The Commons Gallery!!!\n9:00 am
  - 4:00 pm The Commons at TFCU  
X-WR-RELCALID:27198b2d7d9f1b9e06ebbcac714c5f47
X-WR-TIMEZONE:America/Anchorage
BEGIN:VTIMEZONE
TZID:America/Anchorage
BEGIN:STANDARD
TZNAME:AKST
DTSTART:20211107T020000
TZOFFSETFROM:-0800
TZOFFSETTO:-0900
RDATE:20221106T020000
END:STANDARD
BEGIN:DAYLIGHT
TZNAME:AKDT
DTSTART:20210314T020000
TZOFFSETFROM:-0900
TZOFFSETTO:-0800
RDATE:20220313T020000
RDATE:20230312T020000
END:DAYLIGHT
END:VTIMEZONE
BEGIN:VEVENT
UID:3f23d0cd-b661-4914-9807-618d7a17d76e
DTSTAMP:20260420T164026Z
DESCRIPTION:Shop Local Saturdays Market\nEnjoy\, shop\, support local art v
 endors\, and enjoy the awesome artwork at The Commons Gallery!!!\n9:00 am 
 - 4:00 pm The Commons at TFCU  
DTSTART;TZID=America/Anchorage:20220108T090000
DTEND;TZID=America/Anchorage:20220108T160000
LOCATION:The Commons at TFCU
SUMMARY:The Commons - Market Shop Local Saturday
END:VEVENT
END:VCALENDAR
