BEGIN:VCALENDAR
VERSION:2.0
PRODID:-//www.ketchikanarts.org//NONSGML kigkonsult.se iCalcreator 2.30.10/
 /
CALSCALE:GREGORIAN
METHOD:PUBLISH
UID:13135ed3-4a31-492d-854f-4d2a4250ace2
X-WR-CALDESC:Lingít artist Káakaxaawulga - Jennifer Younger\, ally Carol Hu
 ghey\, and Haida artist Kitkun - Charlie Skutka Jr. created a series of ro
 bes in partnership with the Herring Protectors\, to celebrate the story of
  the 'Kaxátjaashaa: Herring Rock Woman' View the powerful Lingít dance rob
 es that tell the story of the first woman to call the Yaaw\, the herring\,
  to Sheet’ká Kwáan - Sitka\, Alaska\nOpening Reception Friday\, January 7t
 h\, 5:00 - 7:00 pm Main Street Gallery\nThe exhibit will be available to v
 iew online Friday\, January 7th\, 5:00 pm at ketchikanarts.org\nThe Herrin
 g Protectors are a grassroots movement working to honor the Yaaw. the herr
 ing. Follow their movement on Instagram @HerringProtectors\nphoto credit: 
 Caitlin Blaisdell image used with permission by the Herring Protectors.\nM
 any thanks to the Ketchikan Indian Community for helping to bring the exhi
 bit to Ketchikan!\nMain Street Gallery exhibits are always free and open t
 o the public! Please wear a mask while visiting the Main Street Gallery.
X-WR-RELCALID:a4afd5f29f71f20048d45065f377c150
X-WR-TIMEZONE:America/Anchorage
BEGIN:VTIMEZONE
TZID:America/Anchorage
BEGIN:STANDARD
TZNAME:AKST
DTSTART:20211107T020000
TZOFFSETFROM:-0800
TZOFFSETTO:-0900
RDATE:20221106T020000
END:STANDARD
BEGIN:DAYLIGHT
TZNAME:AKDT
DTSTART:20210314T020000
TZOFFSETFROM:-0900
TZOFFSETTO:-0800
RDATE:20220313T020000
RDATE:20230312T020000
END:DAYLIGHT
END:VTIMEZONE
BEGIN:VEVENT
UID:d321075a-c6ed-41c5-948d-b0a0d7abff78
DTSTAMP:20260420T163908Z
DESCRIPTION:Lingít artist Káakaxaawulga - Jennifer Younger\, ally Carol Hug
 hey\, and Haida artist Kitkun - Charlie Skutka Jr. created a series of rob
 es in partnership with the Herring Protectors\, to celebrate the story of 
 the 'Kaxátjaashaa: Herring Rock Woman' View the powerful Lingít dance robe
 s that tell the story of the first woman to call the Yaaw\, the herring\, 
 to Sheet’ká Kwáan - Sitka\, Alaska\nOpening Reception Friday\, January 7th
 \, 5:00 - 7:00 pm Main Street Gallery\nThe exhibit will be available to vi
 ew online Friday\, January 7th\, 5:00 pm at ketchikanarts.org\nThe Herring
  Protectors are a grassroots movement working to honor the Yaaw. the herri
 ng. Follow their movement on Instagram @HerringProtectors\nphoto credit: C
 aitlin Blaisdell image used with permission by the Herring Protectors.\nMa
 ny thanks to the Ketchikan Indian Community for helping to bring the exhib
 it to Ketchikan!\nMain Street Gallery exhibits are always free and open to
  the public! Please wear a mask while visiting the Main Street Gallery.
DTSTART;TZID=America/Anchorage:20220107T170000
DTEND;TZID=America/Anchorage:20220107T190000
LOCATION:
SUMMARY:Opening Reception for Kaxátjaashaa: Herring Rock Woman
END:VEVENT
END:VCALENDAR
