BEGIN:VCALENDAR
VERSION:2.0
PRODID:-//www.ketchikanarts.org//NONSGML kigkonsult.se iCalcreator 2.30.10/
 /
CALSCALE:GREGORIAN
METHOD:PUBLISH
UID:985b6a03-8b00-4fa1-933a-884f5fafd275
X-WR-CALDESC:Emilio Torres discusses 'The Ladder' and viewing of 'What We F
 ind in the Sea' with Anika Kan Grevstad and Sasha Faust
X-WR-RELCALID:7bcfa93567acf1e14517e2d953bc042d
X-WR-TIMEZONE:America/Anchorage
BEGIN:VTIMEZONE
TZID:America/Anchorage
BEGIN:STANDARD
TZNAME:AKST
DTSTART:20211107T020000
TZOFFSETFROM:-0800
TZOFFSETTO:-0900
RDATE:20221106T020000
END:STANDARD
BEGIN:DAYLIGHT
TZNAME:AKDT
DTSTART:20210314T020000
TZOFFSETFROM:-0900
TZOFFSETTO:-0800
RDATE:20220313T020000
RDATE:20230312T020000
END:DAYLIGHT
END:VTIMEZONE
BEGIN:VEVENT
UID:ed93f02e-7448-4330-a4ee-0db9b4880970
DTSTAMP:20260420T163847Z
DESCRIPTION:Emilio Torres discusses 'The Ladder' and viewing of 'What We Fi
 nd in the Sea' with Anika Kan Grevstad and Sasha Faust
DTSTART;TZID=America/Anchorage:20220106T120000
DTEND;TZID=America/Anchorage:20220106T130000
LOCATION:Virtual Museum Midday
SUMMARY:Museum Midday - Filmed in Ketchikan
END:VEVENT
END:VCALENDAR
