BEGIN:VCALENDAR
VERSION:2.0
PRODID:-//www.ketchikanarts.org//NONSGML kigkonsult.se iCalcreator 2.30.10/
 /
CALSCALE:GREGORIAN
METHOD:PUBLISH
UID:250ae36f-d67a-40ee-8a3d-09490369c423
X-WR-CALDESC:Shop Local Saturdays Market\nEnjoy\, shop\, support local art 
 vendors\, and enjoy the awesome artwork at The Commons Gallery!!!\n9:00 am
  - 4:00 pm The Commons at TFCU  
X-WR-RELCALID:30c524f5d5dfde67792536fb4749e379
X-WR-TIMEZONE:America/Anchorage
BEGIN:VTIMEZONE
TZID:America/Anchorage
BEGIN:STANDARD
TZNAME:AKST
DTSTART:20211107T020000
TZOFFSETFROM:-0800
TZOFFSETTO:-0900
RDATE:20221106T020000
END:STANDARD
BEGIN:DAYLIGHT
TZNAME:AKDT
DTSTART:20210314T020000
TZOFFSETFROM:-0900
TZOFFSETTO:-0800
RDATE:20220313T020000
RDATE:20230312T020000
END:DAYLIGHT
END:VTIMEZONE
BEGIN:VEVENT
UID:085e6aaf-e221-46c6-979e-7662c5712b81
DTSTAMP:20260420T181817Z
DESCRIPTION:Shop Local Saturdays Market\nEnjoy\, shop\, support local art v
 endors\, and enjoy the awesome artwork at The Commons Gallery!!!\n9:00 am 
 - 4:00 pm The Commons at TFCU  
DTSTART;TZID=America/Anchorage:20211218T090000
DTEND;TZID=America/Anchorage:20211218T160000
LOCATION:The Commons at TFCU
SUMMARY:The Commons - Market Shop Local Saturday
END:VEVENT
END:VCALENDAR
