BEGIN:VCALENDAR
VERSION:2.0
PRODID:-//www.ketchikanarts.org//NONSGML kigkonsult.se iCalcreator 2.30.10/
 /
CALSCALE:GREGORIAN
METHOD:PUBLISH
UID:fec97664-9f0d-4392-93c2-6b45b39dd13e
X-WR-CALDESC:MASKS are REQUIRED at Story SLAM while not eating or drinking!
  Stories at Latitude 56* a program of the Ketchikan Area Arts and Humaniti
 es Council. Story SLAM is an \ninformal\, impromptu\, storytelling event. 
 \nHear (mostly) true stories told by family\, friends\, and perhaps even t
 ell one yourself!\nAll are welcome with MASKS!!!
X-WR-RELCALID:01fa7d7103b1dc1f820a90b145a47d07
X-WR-TIMEZONE:America/Anchorage
BEGIN:VTIMEZONE
TZID:America/Anchorage
BEGIN:STANDARD
TZNAME:AKST
DTSTART:20211107T020000
TZOFFSETFROM:-0800
TZOFFSETTO:-0900
RDATE:20221106T020000
END:STANDARD
BEGIN:DAYLIGHT
TZNAME:AKDT
DTSTART:20210314T020000
TZOFFSETFROM:-0900
TZOFFSETTO:-0800
RDATE:20220313T020000
RDATE:20230312T020000
END:DAYLIGHT
END:VTIMEZONE
BEGIN:VEVENT
UID:f44d028d-fffc-426a-b45b-b77e3714c8b2
DTSTAMP:20260420T181300Z
DESCRIPTION:MASKS are REQUIRED at Story SLAM while not eating or drinking! 
 Stories at Latitude 56* a program of the Ketchikan Area Arts and Humanitie
 s Council. Story SLAM is an \ninformal\, impromptu\, storytelling event. 
 \nHear (mostly) true stories told by family\, friends\, and perhaps even t
 ell one yourself!\nAll are welcome with MASKS!!!
DTSTART;TZID=America/Anchorage:20211214T190000
DTEND;TZID=America/Anchorage:20211214T210000
LOCATION:Creek Street Cabaret
SUMMARY:Story SLAM!
END:VEVENT
END:VCALENDAR
