BEGIN:VCALENDAR
VERSION:2.0
PRODID:-//www.ketchikanarts.org//NONSGML kigkonsult.se iCalcreator 2.30.10/
 /
CALSCALE:GREGORIAN
METHOD:PUBLISH
UID:0d5b86a1-cfbe-4a5d-bbfa-b1d0be212ff6
X-WR-CALDESC:Kayhi presents Elf the Musical!\n\n$20 and $15
X-WR-RELCALID:3cb9ffaf1ce2df592496be12ee46b65a
X-WR-TIMEZONE:America/Anchorage
BEGIN:VTIMEZONE
TZID:America/Anchorage
BEGIN:STANDARD
TZNAME:AKST
DTSTART:20211107T020000
TZOFFSETFROM:-0800
TZOFFSETTO:-0900
RDATE:20221106T020000
END:STANDARD
BEGIN:DAYLIGHT
TZNAME:AKDT
DTSTART:20210314T020000
TZOFFSETFROM:-0900
TZOFFSETTO:-0800
RDATE:20220313T020000
RDATE:20230312T020000
END:DAYLIGHT
END:VTIMEZONE
BEGIN:VEVENT
UID:b270b3de-ced0-4a20-85d2-bdb5f1faef58
DTSTAMP:20260420T181006Z
DESCRIPTION:Kayhi presents Elf the Musical!\n\n$20 and $15
DTSTART;TZID=America/Anchorage:20211210T190000
DTEND;TZID=America/Anchorage:20211210T210000
LOCATION:
SUMMARY:Elf the Musical
END:VEVENT
END:VCALENDAR
