BEGIN:VCALENDAR
VERSION:2.0
PRODID:-//www.ketchikanarts.org//NONSGML kigkonsult.se iCalcreator 2.30.10/
 /
CALSCALE:GREGORIAN
METHOD:PUBLISH
UID:d7c2b21f-184d-464b-8be2-e1fe6cd1f62e
X-WR-CALDESC:'Youth in Art' \nA special one-week exhibit for youth artists 
 aged preschool - senior\, to display their most recent works in a professi
 onal setting.\nExhibit opening takes place during the 22nd Annual Winter A
 rt Walk!  \nDeadline to submit art for this exhibit is Friday\, November 1
 9th\, at 5:00 pm
X-WR-RELCALID:43d911b82947ade83d8aaf32dec39842
X-WR-TIMEZONE:America/Anchorage
BEGIN:VTIMEZONE
TZID:America/Anchorage
BEGIN:STANDARD
TZNAME:AKST
DTSTART:20211107T020000
TZOFFSETFROM:-0800
TZOFFSETTO:-0900
RDATE:20221106T020000
END:STANDARD
BEGIN:DAYLIGHT
TZNAME:AKDT
DTSTART:20210314T020000
TZOFFSETFROM:-0900
TZOFFSETTO:-0800
RDATE:20220313T020000
RDATE:20230312T020000
END:DAYLIGHT
END:VTIMEZONE
BEGIN:VEVENT
UID:2fc7a82d-5386-42ad-b9cb-4ec81caccab9
DTSTAMP:20260420T181306Z
DESCRIPTION:'Youth in Art' \nA special one-week exhibit for youth artists a
 ged preschool - senior\, to display their most recent works in a professio
 nal setting.\nExhibit opening takes place during the 22nd Annual Winter Ar
 t Walk!  \nDeadline to submit art for this exhibit is Friday\, November 19
 th\, at 5:00 pm
DTSTART;TZID=America/Anchorage:20211206T090000
DTEND;TZID=America/Anchorage:20211210T090000
LOCATION:The Main Street Gallery
SUMMARY:'Youth in Art' Exhibit
END:VEVENT
END:VCALENDAR
