BEGIN:VCALENDAR
VERSION:2.0
PRODID:-//www.ketchikanarts.org//NONSGML kigkonsult.se iCalcreator 2.30.10/
 /
CALSCALE:GREGORIAN
METHOD:PUBLISH
UID:527a7e23-0a3d-4c0c-bb60-4dde87865be2
X-WR-CALDESC:Shop Local Saturdays Market\nEnjoy\, shop\, support local art 
 vendors\, and enjoy the awesome artwork at The Commons Gallery!!!\n9:00 am
  - 4:00 pm The Commons at TFCU  
X-WR-RELCALID:0fcd9694e66c1707a55fa6b0a1323447
X-WR-TIMEZONE:America/Anchorage
BEGIN:VTIMEZONE
TZID:America/Anchorage
BEGIN:STANDARD
TZNAME:AKST
DTSTART:20211107T020000
TZOFFSETFROM:-0800
TZOFFSETTO:-0900
RDATE:20221106T020000
END:STANDARD
BEGIN:DAYLIGHT
TZNAME:AKDT
DTSTART:20210314T020000
TZOFFSETFROM:-0900
TZOFFSETTO:-0800
RDATE:20220313T020000
RDATE:20230312T020000
END:DAYLIGHT
END:VTIMEZONE
BEGIN:VEVENT
UID:f9d2cc5c-bb06-4aaf-a502-023c6469f445
DTSTAMP:20260420T181916Z
DESCRIPTION:Shop Local Saturdays Market\nEnjoy\, shop\, support local art v
 endors\, and enjoy the awesome artwork at The Commons Gallery!!!\n9:00 am 
 - 4:00 pm The Commons at TFCU  
DTSTART;TZID=America/Anchorage:20211204T090000
DTEND;TZID=America/Anchorage:20211204T160000
LOCATION:The Commons at TFCU
SUMMARY:The Commons - Market Shop Local Saturday
END:VEVENT
END:VCALENDAR
