BEGIN:VCALENDAR
VERSION:2.0
PRODID:-//www.ketchikanarts.org//NONSGML kigkonsult.se iCalcreator 2.30.10/
 /
CALSCALE:GREGORIAN
METHOD:PUBLISH
UID:a271f2d4-c5cc-4fa4-98bf-2bced6b45046
X-WR-CALDESC:The 22nd  Annual Winter Art Walk is the perfect opportunity fo
 r gallery openings and holiday cheer! Go to KetchikanArts.org to find over
  20 galleries and art businesses celebrating the Holiday season with new a
 rt exhibits\, shopping\, and find that perfect gift! Start at the Main Str
 eet Gallery's Opening Reception of Youth in Art!
X-WR-RELCALID:edb78916504695808683d88b9f51fd40
X-WR-TIMEZONE:America/Anchorage
BEGIN:VTIMEZONE
TZID:America/Anchorage
BEGIN:STANDARD
TZNAME:AKST
DTSTART:20211107T020000
TZOFFSETFROM:-0800
TZOFFSETTO:-0900
RDATE:20221106T020000
END:STANDARD
BEGIN:DAYLIGHT
TZNAME:AKDT
DTSTART:20210314T020000
TZOFFSETFROM:-0900
TZOFFSETTO:-0800
RDATE:20220313T020000
RDATE:20230312T020000
END:DAYLIGHT
END:VTIMEZONE
BEGIN:VEVENT
UID:75029867-d99b-4241-a0b5-89d183dfa511
DTSTAMP:20260420T181006Z
DESCRIPTION:The 22nd  Annual Winter Art Walk is the perfect opportunity for
  gallery openings and holiday cheer! Go to KetchikanArts.org to find over 
 20 galleries and art businesses celebrating the Holiday season with new ar
 t exhibits\, shopping\, and find that perfect gift! Start at the Main Stre
 et Gallery's Opening Reception of Youth in Art!
DTSTART;TZID=America/Anchorage:20211203T170000
DTEND;TZID=America/Anchorage:20211203T200000
LOCATION:
SUMMARY:2021 Winter Art Walk
END:VEVENT
END:VCALENDAR
