BEGIN:VCALENDAR
VERSION:2.0
PRODID:-//www.ketchikanarts.org//NONSGML kigkonsult.se iCalcreator 2.30.10/
 /
CALSCALE:GREGORIAN
METHOD:PUBLISH
UID:fe286670-0565-4b78-8aa4-5536dceeffb6
X-WR-CALDESC:Chip Porter\, biologist Ross Dorendorf\, and artist Rich Stage
  discuss the moaning marauder of Cripple Creek
X-WR-RELCALID:bad5010a2bd4a334deb9ce02fa454694
X-WR-TIMEZONE:America/Anchorage
BEGIN:VTIMEZONE
TZID:America/Anchorage
BEGIN:STANDARD
TZNAME:AKST
DTSTART:20211107T020000
TZOFFSETFROM:-0800
TZOFFSETTO:-0900
RDATE:20221106T020000
END:STANDARD
BEGIN:DAYLIGHT
TZNAME:AKDT
DTSTART:20210314T020000
TZOFFSETFROM:-0900
TZOFFSETTO:-0800
RDATE:20220313T020000
RDATE:20230312T020000
END:DAYLIGHT
END:VTIMEZONE
BEGIN:VEVENT
UID:2acc5175-3600-46b5-af10-74993b02d9a8
DTSTAMP:20260420T181109Z
DESCRIPTION:Chip Porter\, biologist Ross Dorendorf\, and artist Rich Stage 
 discuss the moaning marauder of Cripple Creek
DTSTART;TZID=America/Anchorage:20211202T120000
DTEND;TZID=America/Anchorage:20211202T130000
LOCATION:Virtual Museum Midday
SUMMARY:Museum Midday - Old Groaner & Bruce Johnstone
END:VEVENT
END:VCALENDAR
