BEGIN:VCALENDAR
VERSION:2.0
PRODID:-//www.ketchikanarts.org//NONSGML kigkonsult.se iCalcreator 2.30.10/
 /
CALSCALE:GREGORIAN
METHOD:PUBLISH
UID:8185d72c-f880-4ed6-b87d-c56ce2221265
X-WR-CALDESC:Sam Pitcher Memorial Scholarship Application\n“Providing oppor
 tunities for Ketchikan youth to attend summer music programs”\n\nThis scho
 larship was established to honor the memory of Seming “Sam” Pitcher\, a gi
 fted young man who was active in the various music programs available in K
 etchikan.  Sam loved all kinds of music.  He especially enjoyed playing an
 d listening to music with his friends.  Sam played the trumpet\, flugelhor
 n\, and electric guitar with the McPherson Jazz Bands\, the rock group “Th
 e Rubber Band\,” and the KHS Wind Ensemble and Jazz Band.  He had the oppo
 rtunity to attend both the Sitka Fine Arts Camp and Interlochen Fine Arts 
 Camp in Michigan.  The experiences gained while participating in these cam
 ps were very significant for Sam.  The goal of the Sam Pitcher Music Schol
 arship is to help give other young musicians the opportunity to expand the
 ir music horizons by attending similar summer music programs.
X-WR-RELCALID:671e37ae9a0df67f3f4e05590a9c0d5d
X-WR-TIMEZONE:America/Anchorage
BEGIN:VTIMEZONE
TZID:America/Anchorage
BEGIN:STANDARD
TZNAME:AKST
DTSTART:20211107T020000
TZOFFSETFROM:-0800
TZOFFSETTO:-0900
RDATE:20221106T020000
END:STANDARD
BEGIN:DAYLIGHT
TZNAME:AKDT
DTSTART:20210314T020000
TZOFFSETFROM:-0900
TZOFFSETTO:-0800
RDATE:20220313T020000
RDATE:20230312T020000
END:DAYLIGHT
END:VTIMEZONE
BEGIN:VEVENT
UID:d715ffee-0c9b-4f7f-b64a-12b0f9013fb6
DTSTAMP:20260420T180845Z
DESCRIPTION:Sam Pitcher Memorial Scholarship Application\n“Providing opport
 unities for Ketchikan youth to attend summer music programs”\n\nThis schol
 arship was established to honor the memory of Seming “Sam” Pitcher\, a gif
 ted young man who was active in the various music programs available in Ke
 tchikan.  Sam loved all kinds of music.  He especially enjoyed playing and
  listening to music with his friends.  Sam played the trumpet\, flugelhorn
 \, and electric guitar with the McPherson Jazz Bands\, the rock group “The
  Rubber Band\,” and the KHS Wind Ensemble and Jazz Band.  He had the oppor
 tunity to attend both the Sitka Fine Arts Camp and Interlochen Fine Arts C
 amp in Michigan.  The experiences gained while participating in these camp
 s were very significant for Sam.  The goal of the Sam Pitcher Music Schola
 rship is to help give other young musicians the opportunity to expand thei
 r music horizons by attending similar summer music programs.
DTSTART;TZID=America/Anchorage:20211201T080000
DTEND;TZID=America/Anchorage:20211202T010000
LOCATION:
SUMMARY:Sam Pitcher Scholarship
END:VEVENT
END:VCALENDAR
