BEGIN:VCALENDAR
VERSION:2.0
PRODID:-//www.ketchikanarts.org//NONSGML kigkonsult.se iCalcreator 2.30.10/
 /
CALSCALE:GREGORIAN
METHOD:PUBLISH
UID:58459971-24c0-4b31-adb6-9a393db632d1
X-WR-CALDESC:NANOWRIMO ends today LOG your word count at NANOWRIMO.org
X-WR-RELCALID:243934f4b8cbf10e3344a8b541ece512
X-WR-TIMEZONE:America/Anchorage
BEGIN:VTIMEZONE
TZID:America/Anchorage
BEGIN:STANDARD
TZNAME:AKST
DTSTART:20211107T020000
TZOFFSETFROM:-0800
TZOFFSETTO:-0900
RDATE:20221106T020000
END:STANDARD
BEGIN:DAYLIGHT
TZNAME:AKDT
DTSTART:20210314T020000
TZOFFSETFROM:-0900
TZOFFSETTO:-0800
RDATE:20220313T020000
RDATE:20230312T020000
END:DAYLIGHT
END:VTIMEZONE
BEGIN:VEVENT
UID:adab823c-566a-4945-bda0-61d4f10fcaa9
DTSTAMP:20260420T194838Z
DESCRIPTION:NANOWRIMO ends today LOG your word count at NANOWRIMO.org
DTSTART;TZID=America/Anchorage:20211130T000000
DTEND;TZID=America/Anchorage:20211130T235900
LOCATION:The Main Street Gallery
SUMMARY:NANOWRIMO STOPS
END:VEVENT
END:VCALENDAR
